{"text_format":"1","workbook":"xlsx","n_sheets":2,"sheets":["Arbeitsblatt","Loesungen"],"not_rendered":{"charts":0,"images":0,"macros":1,"external_links":0,"defined_names":0,"comments":0,"pivot_tables":0},"unopened":[],"bounds":{"document_bytes":16777216,"sheet_cells":100000,"rows_first":2000,"rows_last":500,"rows_between":2000,"halvings":0,"cell_chars":16384,"cell_head_chars":4096},"cells_cut":0,"cells_raw":0,"read":"whole","date_system":"1900"}

{"sheet":"Arbeitsblatt","index":0,"n_rows":135,"n_cols":7,"rows_kept":135,"cut":false,"hidden":false,"merged":[]}
[null,"Einfache Mal- und Divisionsaufgaben ",null,null,"Blitz 10+11",null,"4. Klasse"]
[]
[{"$f":"RAND()","v":0.16168132356787557},"900 : 90 =",10]
[{"$f":"RAND()","v":0.63187171562406774},"1'500 : 5 =",300]
[{"$f":"RAND()","v":0.20308653105809527},"210 : 7 =",30]
[{"$f":"RAND()","v":0.79387721324812},"10 x 80 =",800]
[{"$f":"RAND()","v":0.36777295338265781},"540 : 9 =",60]
[{"$f":"RAND()","v":0.33757118846891621},"2'100 : 300 =",7]
[{"$f":"RAND()","v":0.10713221592228306},"12'000 : 4 =",3000]
[{"$f":"RAND()","v":0.65986303518916722},"360 : 60 =",6]
[{"$f":"RAND()","v":0.35755418775695136},"10'000 : 2 =",5000]
[{"$f":"RAND()","v":0.97034958844618391},"600 : 60 =",10]
[{"$f":"RAND()","v":0.44521749513999087},"500 x 3 =",1500]
[{"$f":"RAND()","v":0.29614549494016074},"1 x 30 =",30]
[{"$f":"RAND()","v":0.73974321439953605},"4'500 : 5 =",900]
[{"$f":"RAND()","v":0.95227159265106653},"2'700 : 9 =",300]
[{"$f":"RAND()","v":0.42550774914671918},"54'000 : 6 =",9000]
[{"$f":"RAND()","v":0.26787950478097533},"27'000 : 3 =",9000]
[{"$f":"RAND()","v":0.93912932281895189},"280'000 : 7 =",40000]
[{"$f":"RAND()","v":0.34788387152083389},"3'000 : 3 =",1000]
[{"$f":"RAND()","v":0.25460017876529151},"8 x 70 =",560]
[{"$f":"RAND()","v":0.4540977751056231},"6'000 : 6 =",1000]
[{"$f":"RAND()","v":0.66887163698058649},"9 x 30 =",270]
[0.93127893088772506,"1'000 : 5 =",200]
[0.12354124646046372,"2'800 : 4 =",700]
[0.39949859240821617,"50 x 4 =",200]
[0.87472418595002499,"30'000 : 5 =",6000]
[0.94425394700632181,"900 x 8 =",7200]
[0.27503319048585384,"6 x 60 =",360]
[0.98396002191520615,"8'000 : 4 =",2000]
[0.73428642526877019,"20'000 : 5 =",4000]
[0.26003159425506195,"800 : 80 =",10]
[0.24344753230663985,"2 x 200 =",400]
[0.88758033774337552,"4'000 : 40 =",100]
[{"$f":"RAND()","v":0.80231709913189175},"10 x 9 =",90]
[0.2999933273347567,"1'200 : 2 =",600]
[0.31914899898465698,"72'000 : 8 =",9000]
[0.37867192165307606,"3 x 3'000 =",9000]
[0.48825373759582036,"10 x 30 =",300]
[0.11809776359950663,"720 : 9 =",80]
[0.5806015896531197,"7 x 600 =",4200]
[0.17945383092439648,"8'000 x 5 =",40000]
[0.32227842238017168,"200'000 : 4 =",50000]
[0.30646336457592638,"1'600 : 8 =",200]
[0.8305179983846247,"800 x 4 =",3200]
[0.4356611651301755,"18'000 : 2 =",9000]
[0.15043584428923773,"240 : 8 =",30]
[0.15482373651368553,"490 : 7 =",70]
[0.42045783575146978,"3'6000 : 4 =",9000]
[0.27855486081070369,"4 x 30'000 =",120000]
[0.94459310632785476,"1'200 : 6 =",200]
[0.27830005040303485,"480 : 6 =",80]
[0.11526979561876927,"80'000 : 2 =",40000]
[0.40136279610625869,"240 : 6 =",40]
[0.25546479630120711,"100 x 8 =",800]
[0.76905463730594736,"900 x 2 =",1800]
[0.34117599952414779,"10 x 700 =",7000]
[0.7393115848335895,"80 x 2 =",160]
[0.64285249052935145,"500 : 500 =",1]
[0.8155631465708213,"600 x 3 =",1800]
[0.30373971202071037,"36'000 : 9 =",4000]
[8.1727554453049134E-2,"1'000 x 5 =",5000]
[0.17674569381299043,"9'000 x 6 =",54000]
[0.65711541133705187,"4'000 x 2 =",8000]
[0.11527788337618305,"560 : 8 =",70]
[0.8920159892669014,"100 x 7 =",700]
[{"$f":"RAND()","v":0.37201431861721035},"700 x 2 =",1400]
[0.77263523332069073,"8 x 3'000 =",24000]
[0.65495243788791568,"4200 : 6 =",700]
[0.54951246815871624,"40 x 9 =",360]
[0.4768044084169285,"180 : 30 =",6]
[0.52480016216450309,"81'000 : 9 =",9000]
[0.90211452637633149,"8 x 60 =",480]
[0.69974112056373727,"8 x 8'000 =",64000]
[0.97631864951605385,"500 x 5 =",2500]
[0.94783390344493934,"6'000 x 4 =",24000]
[2.6191993621474285E-2,"700 x 3 =",2100]
[0.58855531837940345,"4200 : 7 =",600]
[0.96018545575460434,"200'000 : 2 =",100000]
[0.70815651985852834,"4 x 400 =",1600]
[3.0634740971349106E-2,"3'000 : 600 =",5]
[5.3690841852223836E-2,"200 : 200 =",1]
[0.94355898939117555,"400 : 5 =",80]
[0.80219442704782662,"40'000 : 8 =",5000]
[0.4881516450569604,"64 : 8 =",8]
[0.5748467082012938,"9'000: 90 =",100]
[0.34942376230324579,"800 : 8 =",100]
[0.92677949860383857,"63'000 : 9 =",7000]
[0.64051546922288982,"32'000 : 8 =",4000]
[0.82537579174204057,"1400 : 20 =",70]
[0.50502947026197409,"50'000 x 2 =",100000]
[0.24620887040846795,"900 : 3 =",300]
[0.8660756810574356,"1 x 2 =",2]
[0.59622183254195249,"700: 7 =",10]
[3.9255879220971401E-2,"10 x 200 =",2000]
[0.73955142297866372,"100 x 6 =",600]
[0.25889752439136771,"700 x 4 =",2800]
[0.493764024731287,"10'000 x 6 =",60000]
[{"$f":"RAND()","v":0.29486583174677716},"1'800 : 9 =",200]
[0.40738442707205746,"2'500 : 5 =",500]
[0.14840252998518588,"3'500 : 500 =",7]
[0.69524138328785168,"500 : 50 =",100]
[0.42141432988327976,"3'000 : 30 =",100]
[0.90985342454449802,"90 x 5 =",450]
[1.3195461903584116E-2,"1'500 : 3 =",500]
[0.70025337178047509,"10 x 40 =",400]
[0.97889029173112019,"400 : 4 =",100]
[2.2949626184113225E-2,"240 : 4 =",60]
[0.99228065056675163,"4'500 : 9 =",500]
[0.2149287259176379,"6 x 50 =",300]
[7.0116050411102027E-2,"9 x 900 =",8100]
[0.24540853572670251,"90 x 7 =",630]
[0.62996585147386364,"4'800 : 8 =",600]
[0.3841442560479994,"3 x 20 =",60]
[0.23739760366372009,"700 x 7 =",4900]
[0.12487116719987557,"35'000 : 7 =",5000]
[0.95776005695051403,"100 x 4 =",400]
[0.46248110894640215,"4'000 : 2 =",2000]
[0.79033335060302579,"100'000 x 9 =",900000]
[0.20604150943576738,"10 x 50 =",500]
[0.86610544367326969,"160 : 20 =",8]
[0.35716340612741282,"56'000 : 7 =",8000]
[0.50329388091461413,"6'300 : 7 =",900]
[0.36293904664417365,"1'400 : 7 =",200]
[3.0342126568122962E-2,"18'000 : 6 =",3000]
[0.44613563444922288,"12'000 : 3 =",4000]
[0.94352531715311416,"7'000 : 700 =",10]
[0.31626764062736545,"900 x 4 =",3600]
[0.99136156407603704,"6'000 x 2 =",12000]
[0.34067757408771449,"60'000 : 3 =",20000]
[0.82304875480360473,"3'200 : 4 =",800]
[0.96684080861574084,"7 x 50'000 =",350000]
[0.12377424701999751,"160 : 40 =",4]
[0.57116771712700309,"600 : 2 =",300]
[3.7533276267226023E-2,"2'400 : 3 =",800]

{"sheet":"Loesungen","index":1,"n_rows":22,"n_cols":6,"rows_kept":22,"cut":false,"hidden":false,"merged":[]}
[null,"Einfache Mal- und Divisionsaufgaben ",null,null,"Blitz 10+11","4. Klasse"]
[]
[{"$f":"RAND()","v":0.9741687478810257},{"$f":"Arbeitsblatt!B3","v":"900 : 90 ="},{"$f":"Arbeitsblatt!C3","v":10}]
[0.18663685877131508,{"$f":"Arbeitsblatt!B4","v":"1'500 : 5 ="},{"$f":"Arbeitsblatt!C4","v":300}]
[0.80237093563168171,{"$f":"Arbeitsblatt!B5","v":"210 : 7 ="},{"$f":"Arbeitsblatt!C5","v":30}]
[0.31907075804720353,{"$f":"Arbeitsblatt!B6","v":"10 x 80 ="},{"$f":"Arbeitsblatt!C6","v":800}]
[0.57895861262209469,{"$f":"Arbeitsblatt!B7","v":"540 : 9 ="},{"$f":"Arbeitsblatt!C7","v":60}]
[0.48320229124149461,{"$f":"Arbeitsblatt!B8","v":"2'100 : 300 ="},{"$f":"Arbeitsblatt!C8","v":7}]
[0.29134591843294133,{"$f":"Arbeitsblatt!B9","v":"12'000 : 4 ="},{"$f":"Arbeitsblatt!C9","v":3000}]
[0.47882164585960307,{"$f":"Arbeitsblatt!B10","v":"360 : 60 ="},{"$f":"Arbeitsblatt!C10","v":6}]
[0.71474909543470411,{"$f":"Arbeitsblatt!B11","v":"10'000 : 2 ="},{"$f":"Arbeitsblatt!C11","v":5000}]
[0.94720818871019807,{"$f":"Arbeitsblatt!B12","v":"600 : 60 ="},{"$f":"Arbeitsblatt!C12","v":10}]
[0.5064075673247922,{"$f":"Arbeitsblatt!B13","v":"500 x 3 ="},{"$f":"Arbeitsblatt!C13","v":1500}]
[0.95847561357009681,{"$f":"Arbeitsblatt!B14","v":"1 x 30 ="},{"$f":"Arbeitsblatt!C14","v":30}]
[0.53676865330201529,{"$f":"Arbeitsblatt!B15","v":"4'500 : 5 ="},{"$f":"Arbeitsblatt!C15","v":900}]
[0.27145759028781624,{"$f":"Arbeitsblatt!B16","v":"2'700 : 9 ="},{"$f":"Arbeitsblatt!C16","v":300}]
[0.80952472975896161,{"$f":"Arbeitsblatt!B17","v":"54'000 : 6 ="},{"$f":"Arbeitsblatt!C17","v":9000}]
[0.85701630055853883,{"$f":"Arbeitsblatt!B18","v":"27'000 : 3 ="},{"$f":"Arbeitsblatt!C18","v":9000}]
[0.57220859072982944,{"$f":"Arbeitsblatt!B19","v":"280'000 : 7 ="},{"$f":"Arbeitsblatt!C19","v":40000}]
[6.0215760674333207E-2,{"$f":"Arbeitsblatt!B20","v":"3'000 : 3 ="},{"$f":"Arbeitsblatt!C20","v":1000}]
[0.25151657616899292,{"$f":"Arbeitsblatt!B21","v":"8 x 70 ="},{"$f":"Arbeitsblatt!C21","v":560}]
[0.55221081357595736,{"$f":"Arbeitsblatt!B22","v":"6'000 : 6 ="},{"$f":"Arbeitsblatt!C22","v":1000}]